BEGIN:VCALENDAR
VERSION:2.0
PRODID:-//Tiziano Bellini Wine - ECPv6.8.0//NONSGML v1.0//EN
CALSCALE:GREGORIAN
METHOD:PUBLISH
X-WR-CALNAME:Tiziano Bellini Wine
X-ORIGINAL-URL:https://www.tizianobelliniwine.com
X-WR-CALDESC:Eventi per Tiziano Bellini Wine
REFRESH-INTERVAL;VALUE=DURATION:PT1H
X-Robots-Tag:noindex
X-PUBLISHED-TTL:PT1H
BEGIN:VTIMEZONE
TZID:Europe/Paris
BEGIN:DAYLIGHT
TZOFFSETFROM:+0100
TZOFFSETTO:+0200
TZNAME:CEST
DTSTART:20240331T010000
END:DAYLIGHT
BEGIN:STANDARD
TZOFFSETFROM:+0200
TZOFFSETTO:+0100
TZNAME:CET
DTSTART:20241027T010000
END:STANDARD
END:VTIMEZONE
BEGIN:VEVENT
DTSTART;TZID=Europe/Paris:20240531T080000
DTEND;TZID=Europe/Paris:20240531T170000
DTSTAMP:20260423T205359
CREATED:20240222T161539Z
LAST-MODIFIED:20240517T095616Z
UID:3340-1717142400-1717174800@www.tizianobelliniwine.com
SUMMARY:Festa 30 Marzo in Cantina
DESCRIPTION:✅ Costo a persona 55 euro \n✅Il numero di posti è limitato: è necessaria la prenotazione. \n✅ Ai fini organizzativi\, si richiede una caparra di 15 euro a persona. \n  \nNel corso della serata ci aspettano: \nVisita guidata nella cantina accompagnato dall’enologo e dal vignaiolo \nWine paring\, impariamo ad abbinare i vini: ci aspetta un aperitivo-gourmet disegnato appositamente sugli abbinamenti dei vini in degustazione \nDegustazione di 4 vini: Metodo Ancestrale (Pet-Nat)\, Metodo Classico e Rosso corpo pieno \nSabrage (sciabolata): una lotteria gratuita eleggerà il vincitore dell’esperienza SABRAGE\, l’arte di aprire la bottiglia di Metodo Classico con la sciabola \nFisarmonica dal vivo; Interpretazione degli astri e tanto altro! \nCosto a persona 55 euro \n✅ Inizio 17:30\n✅ Indirizzo: Sabbioni di Viadana\, via Gardani 2 – Provincia di Mantova\, 46019.\n✅ Come arrivare? Potete contattarci via mail tiziano.bellini.wine@gmail.com \nwww. tizianobelliniwine.com – per scoprire i nostri vini e la cantina. \n\nISCRIVITI ALL’EVENTO
URL:https://www.tizianobelliniwine.com/event/festa-30-marzo-in-cantina/
LOCATION:Azienda Agricola Tiziano Bellini\, via Gardani 2\, Sabbioni di Viadana\, Mantova\, 46019\, Italia
ATTACH;FMTTYPE=image/jpeg:https://www.tizianobelliniwine.com/wp-content/uploads/2023/12/BACEN-AL-NASO.jpg
END:VEVENT
BEGIN:VEVENT
DTSTART;TZID=Europe/Paris:20240309T173000
DTEND;TZID=Europe/Paris:20240309T223000
DTSTAMP:20260423T205359
CREATED:20240222T160940Z
LAST-MODIFIED:20240222T162242Z
UID:3336-1710005400-1710023400@www.tizianobelliniwine.com
SUMMARY:Festa 9 Marzo in Cantina
DESCRIPTION:✅ Costo a persona 55 euro \n✅ Il numero di posti è limitato: è necessaria la prenotazione. \n✅ Ai fini organizzativi\, si richiede una caparra di 15 euro a persona. \n  \nNel corso della serata ci aspettano: \nVisita guidata nella cantina accompagnato dall’enologo e dal vignaiolo \nWine paring\, impariamo ad abbinare i vini: ci aspetta un aperitivo-gourmet disegnato appositamente sugli abbinamenti dei vini in degustazione \nDegustazione di 4 vini: Metodo Ancestrale (Pet-Nat)\, Metodo Classico e Rosso corpo pieno \nSabrage (sciabolata): una lotteria gratuita eleggerà il vincitore dell’esperienza SABRAGE\, l’arte di aprire la bottiglia di Metodo Classico con la sciabola \nFisarmonica dal vivo; Interpretazione degli astri e tanto altro! \nCosto a persona 55 euro \n✅ Inizio 17:30\n✅ Indirizzo: Sabbioni di Viadana\, via Gardani 2 – Provincia di Mantova\, 46019.\n✅ Come arrivare? Potete contattarci via mail tiziano.bellini.wine@gmail.com \nwww. tizianobelliniwine.com – per scoprire i nostri vini e la cantina.
URL:https://www.tizianobelliniwine.com/event/festa-9-marzo-in-cantina/
LOCATION:Azienda Agricola Tiziano Bellini\, via Gardani 2\, Sabbioni di Viadana\, Mantova\, 46019\, Italia
ATTACH;FMTTYPE=image/jpeg:https://www.tizianobelliniwine.com/wp-content/uploads/2023/12/tiziano-home-page-scaled.jpg
END:VEVENT
END:VCALENDAR